BEGIN:VCALENDAR
VERSION:2.0
PRODID:-//Bergedorfer Schachverein von 1909 e.V. - ECPv6.15.17.1//NONSGML v1.0//EN
CALSCALE:GREGORIAN
METHOD:PUBLISH
X-ORIGINAL-URL:https://bergedorfer-schachverein.de
X-WR-CALDESC:Veranstaltungen für Bergedorfer Schachverein von 1909 e.V.
REFRESH-INTERVAL;VALUE=DURATION:PT1H
X-Robots-Tag:noindex
X-PUBLISHED-TTL:PT1H
BEGIN:VTIMEZONE
TZID:Europe/Berlin
BEGIN:DAYLIGHT
TZOFFSETFROM:+0100
TZOFFSETTO:+0200
TZNAME:CEST
DTSTART:20250330T010000
END:DAYLIGHT
BEGIN:STANDARD
TZOFFSETFROM:+0200
TZOFFSETTO:+0100
TZNAME:CET
DTSTART:20251026T010000
END:STANDARD
BEGIN:DAYLIGHT
TZOFFSETFROM:+0100
TZOFFSETTO:+0200
TZNAME:CEST
DTSTART:20260329T010000
END:DAYLIGHT
BEGIN:STANDARD
TZOFFSETFROM:+0200
TZOFFSETTO:+0100
TZNAME:CET
DTSTART:20261025T010000
END:STANDARD
BEGIN:DAYLIGHT
TZOFFSETFROM:+0100
TZOFFSETTO:+0200
TZNAME:CEST
DTSTART:20270328T010000
END:DAYLIGHT
BEGIN:STANDARD
TZOFFSETFROM:+0200
TZOFFSETTO:+0100
TZNAME:CET
DTSTART:20271031T010000
END:STANDARD
END:VTIMEZONE
BEGIN:VEVENT
DTSTART;TZID=Europe/Berlin:20260310T190000
DTEND;TZID=Europe/Berlin:20260310T220000
DTSTAMP:20260422T204453
CREATED:20260309T132826Z
LAST-MODIFIED:20260309T133126Z
UID:425-1773169200-1773180000@bergedorfer-schachverein.de
SUMMARY:Freier Spielabend Bergedorfer SV
DESCRIPTION:
URL:https://bergedorfer-schachverein.de/veranstaltung/freier-spielabend-bergedorfer-sv-2/
LOCATION:Spiellokal Bergedorfer SV – Haus im Park\, Gräpelweg 8\, Hamburg/Bergedorf\, 21029\, Germany
END:VEVENT
END:VCALENDAR